BEGIN:VCALENDAR
VERSION:2.0
PRODID:icalendar-ruby
CALSCALE:GREGORIAN
METHOD:PUBLISH
BEGIN:VEVENT
DTSTAMP:20260426T042700Z
UID:5-1572830@concordhsv.org
DTSTART:20260802T180000Z
DTEND:20260802T190000Z
CLASS:PUBLIC
CREATED:20260425T185925
DESCRIPTION:Sunday Worship
LAST-MODIFIED:20260425T185925
LOCATION:
SUMMARY:Sunday Worship
URL;VALUE=URI:https://www.concordhsv.org/events/sunday-worship/2026-08-02
END:VEVENT
END:VCALENDAR
