BEGIN:VCALENDAR
VERSION:2.0
PRODID:icalendar-ruby
CALSCALE:GREGORIAN
METHOD:PUBLISH
BEGIN:VEVENT
DTSTAMP:20260426T031117Z
UID:5-1572829@concordhsv.org
DTSTART:20260726T180000Z
DTEND:20260726T190000Z
CLASS:PUBLIC
CREATED:20260425T185925
DESCRIPTION:Sunday Worship
LAST-MODIFIED:20260425T185925
LOCATION:
SUMMARY:Sunday Worship
URL;VALUE=URI:https://www.concordhsv.org/events/sunday-worship/2026-07-26
END:VEVENT
END:VCALENDAR
