BEGIN:VCALENDAR
VERSION:2.0
PRODID:icalendar-ruby
CALSCALE:GREGORIAN
METHOD:PUBLISH
BEGIN:VEVENT
DTSTAMP:20260425T205131Z
UID:5-1571946@concordhsv.org
DTSTART:20260621T180000Z
DTEND:20260621T190000Z
CLASS:PUBLIC
CREATED:20260425T133511
DESCRIPTION:Sunday Worship
LAST-MODIFIED:20260425T133511
LOCATION:
SUMMARY:Sunday Worship
URL;VALUE=URI:https://www.concordhsv.org/events/sunday-worship/2026-06-21
END:VEVENT
END:VCALENDAR
