BEGIN:VCALENDAR
VERSION:2.0
PRODID:icalendar-ruby
CALSCALE:GREGORIAN
METHOD:PUBLISH
BEGIN:VEVENT
DTSTAMP:20260425T171833Z
UID:5-1571065@concordhsv.org
DTSTART:20260531T180000Z
DTEND:20260531T190000Z
CLASS:PUBLIC
CREATED:20260425T081343
DESCRIPTION:Sunday Worship
LAST-MODIFIED:20260425T081343
LOCATION:
SUMMARY:Sunday Worship
URL;VALUE=URI:https://www.concordhsv.org/events/sunday-worship/2026-05-31
END:VEVENT
END:VCALENDAR
