BEGIN:VCALENDAR
VERSION:2.0
PRODID:icalendar-ruby
CALSCALE:GREGORIAN
METHOD:PUBLISH
BEGIN:VEVENT
DTSTAMP:20260425T111321Z
UID:5-1570183@concordhsv.org
DTSTART:20260503T180000Z
DTEND:20260503T190000Z
CLASS:PUBLIC
CREATED:20260424T194918
DESCRIPTION:Sunday Worship
LAST-MODIFIED:20260424T194918
LOCATION:
SUMMARY:Sunday Worship
URL;VALUE=URI:https://www.concordhsv.org/events/sunday-worship/2026-05-03
END:VEVENT
END:VCALENDAR
