BEGIN:VCALENDAR
VERSION:2.0
PRODID:icalendar-ruby
CALSCALE:GREGORIAN
METHOD:PUBLISH
BEGIN:VEVENT
DTSTAMP:20260421T184538Z
UID:3-1560590@concordhsv.org
DTSTART:20260607T160000Z
DTEND:20260607T163000Z
CLASS:PUBLIC
CREATED:20260421T104321
DESCRIPTION:Here is where you can inlcude the event information and descrip
 tion along with any registration information if needed.
LAST-MODIFIED:20260421T104321
LOCATION:450 Sparkman Dr.\, Huntsville\, AL
SUMMARY:Cafe' Fellowship
URL;VALUE=URI:https://www.concordhsv.org/events/cafe-fellowship/2026-06-07
ATTACH;FILENAME=ben-white-292680-unsplash.jpg;FMTTYPE=image/jpeg:https://dq
 5pwpg1q8ru0.cloudfront.net/2025/08/11/21/15/03/93206905-0d4b-4963-b073-328
 730f2eeb2/ben-white-292680-unsplash.jpg
END:VEVENT
END:VCALENDAR
